BEGIN:VCALENDAR
PRODID:-//eluceo/ical//2.0/EN
VERSION:2.0
CALSCALE:GREGORIAN
BEGIN:VEVENT
UID:491c4d5f501917d1dee1eafdc5c94a88
DTSTAMP:20260422T133049Z
SUMMARY:UJA Dinner of Miracles 2019
DESCRIPTION:UJA Federation of Greater Toronto\nJewish Toronto Calendar\nhtt
 ps://jewishtoronto.com/calendar/uja-dinner-of-miracles-2019-1567101022\n\n
 Annual Dinner of Miracles
DTSTART;TZID=America/Toronto:20191215T183000
DTEND;TZID=America/Toronto:20191215T220000
END:VEVENT
END:VCALENDAR
