BEGIN:VCALENDAR
PRODID:-//eluceo/ical//2.0/EN
VERSION:2.0
CALSCALE:GREGORIAN
BEGIN:VEVENT
UID:eb8f16f8e6bb9cda22f42c155a8143e6
DTSTAMP:20260425T111819Z
SUMMARY:UJA Community Event - HOLD
DESCRIPTION:UJA Federation of Greater Toronto\nJewish Toronto Calendar\nhtt
 ps://jewishtoronto.com/calendar/uja-community-event-hold3\n\nTBD 
DTSTART;TZID=America/Toronto:20201119T193000
DTEND;TZID=America/Toronto:20201119T203000
END:VEVENT
END:VCALENDAR
