BEGIN:VCALENDAR
PRODID:-//eluceo/ical//2.0/EN
VERSION:2.0
CALSCALE:GREGORIAN
BEGIN:VEVENT
UID:acefeadf7e770a61bcb81d0502071258
DTSTAMP:20260422T192551Z
SUMMARY:UJA Centennial Campaign Executive Cabinet Meeting
DESCRIPTION:UJA Federation of Greater Toronto\nJewish Toronto Calendar\nhtt
 ps://jewishtoronto.com/calendar/uja-centennial-campaign-executive-cabinet-
 meeting-october-19-2016\n\nBeth Tzedec Congregation
DTSTART;TZID=America/Toronto:20161019T161500
DTEND;TZID=America/Toronto:20161019T181500
END:VEVENT
END:VCALENDAR
