BEGIN:VCALENDAR
PRODID:-//eluceo/ical//2.0/EN
VERSION:2.0
CALSCALE:GREGORIAN
BEGIN:VEVENT
UID:74223b59891f8ad6f439ca2651e26c4b
DTSTAMP:20260424T205910Z
SUMMARY:UJA Centennial Campaign Executive Cabinet Meeting
DESCRIPTION:UJA Federation of Greater Toronto\nJewish Toronto Calendar\nhtt
 ps://jewishtoronto.com/calendar/uja-centennial-campaign-executive-cabinet-
 meeting-november-16-2016\n\nBeth Tzedec Congregation
DTSTART;TZID=America/Toronto:20161116T161500
DTEND;TZID=America/Toronto:20161116T181500
END:VEVENT
END:VCALENDAR
