BEGIN:VCALENDAR
PRODID:-//eluceo/ical//2.0/EN
VERSION:2.0
CALSCALE:GREGORIAN
BEGIN:VEVENT
UID:8da2c2b708ffba4fd375bbfaa503764e
DTSTAMP:20260422T231716Z
SUMMARY:UJA Centennial Campaign Executive Cabinet Meeting
DESCRIPTION:UJA Federation of Greater Toronto\nJewish Toronto Calendar\nhtt
 ps://jewishtoronto.com/calendar/uja-centennial-campaign-executive-cabinet-
 meeting-june-1-2016\n\nBeth Tzedec Congregation
DTSTART;TZID=America/Toronto:20160601T161500
DTEND;TZID=America/Toronto:20160601T181500
END:VEVENT
END:VCALENDAR
