BEGIN:VCALENDAR
PRODID:-//eluceo/ical//2.0/EN
VERSION:2.0
CALSCALE:GREGORIAN
BEGIN:VEVENT
UID:9d49a904ab50f8aa38da6babd125ce96
DTSTAMP:20260423T205942Z
SUMMARY:UJA - Campaign Closing (TBC)
DESCRIPTION:UJA Federation of Greater Toronto\nJewish Toronto Calendar\nhtt
 ps://jewishtoronto.com/calendar/uja-campagin-closing-tbc\n\nUJA - Campaign
  Closing (TBC)
DTSTART;TZID=America/Toronto:20171214T000000
DTEND;TZID=America/Toronto:20171214T235500
END:VEVENT
END:VCALENDAR
