BEGIN:VCALENDAR
PRODID:-//eluceo/ical//2.0/EN
VERSION:2.0
CALSCALE:GREGORIAN
BEGIN:VEVENT
UID:6f9b7868344815ef75d9a79e29eecce5
DTSTAMP:20260420T034345Z
SUMMARY:UJA Breakfast with Sheba Medical Centre
DESCRIPTION:UJA Federation of Greater Toronto\nJewish Toronto Calendar\nhtt
 ps://jewishtoronto.com/calendar/uja-breakfast-with-sheba-medical-centre\n\
 nThis is a private event. 
DTSTART;TZID=America/Toronto:20220406T000000
DTEND;TZID=America/Toronto:20220406T235959
END:VEVENT
END:VCALENDAR
