BEGIN:VCALENDAR
PRODID:-//eluceo/ical//2.0/EN
VERSION:2.0
CALSCALE:GREGORIAN
BEGIN:VEVENT
UID:6fa943e7ae045519d5633323a6600125
DTSTAMP:20260421T203453Z
SUMMARY:UJA: Anti-Semitism in the Workplace with CIJA
DESCRIPTION:UJA Federation of Greater Toronto\nJewish Toronto Calendar\nhtt
 ps://jewishtoronto.com/calendar/uja-anti-semitism-in-the-workplace-with-ci
 ja\n\nUJA's Community Division will host another Now You Know webinar wit
 h CIJA on how to deal with anti-semitism in the workplace.\n\nPlease conta
 ct Jenny to register. 
DTSTART;TZID=America/Toronto:20211029T120000
DTEND;TZID=America/Toronto:20211029T130000
END:VEVENT
END:VCALENDAR
