BEGIN:VCALENDAR
PRODID:-//eluceo/ical//2.0/EN
VERSION:2.0
CALSCALE:GREGORIAN
BEGIN:VEVENT
UID:e69ae0fa1139904546eb8b83f5ed32fa
DTSTAMP:20260422T181550Z
SUMMARY:UJA Annual Meeting
DESCRIPTION:UJA Federation of Greater Toronto\nJewish Toronto Calendar\nhtt
 ps://jewishtoronto.com/calendar/uja-annual-meeting3\n\nUJA's Annual Genera
 l Meeting. 
DTSTART;TZID=America/Toronto:20231214T000000
DTEND;TZID=America/Toronto:20231214T235959
END:VEVENT
END:VCALENDAR
