BEGIN:VCALENDAR
PRODID:-//eluceo/ical//2.0/EN
VERSION:2.0
CALSCALE:GREGORIAN
BEGIN:VEVENT
UID:4fa6e90c98117c7dc6e8f85cf0500fca
DTSTAMP:20260422T040026Z
SUMMARY:UJA Annual Meeting
DESCRIPTION:UJA Federation of Greater Toronto\nJewish Toronto Calendar\nhtt
 ps://jewishtoronto.com/calendar/uja-annual-meeting2\n\nDetails to follow.
  
DTSTART;TZID=America/Toronto:20221214T000000
DTEND;TZID=America/Toronto:20221214T235959
END:VEVENT
END:VCALENDAR
