BEGIN:VCALENDAR
PRODID:-//eluceo/ical//2.0/EN
VERSION:2.0
CALSCALE:GREGORIAN
BEGIN:VEVENT
UID:04e4461f29080e56235259bb25bb40af
DTSTAMP:20260425T174755Z
SUMMARY:UJA | Annual Meeting
DESCRIPTION:UJA Federation of Greater Toronto\nJewish Toronto Calendar\nhtt
 ps://jewishtoronto.com/calendar/uja-annual-meeting\n\nDetails coming soon
  
DTSTART;TZID=America/Toronto:20241205T000000
DTEND;TZID=America/Toronto:20241205T235959
END:VEVENT
END:VCALENDAR
