BEGIN:VCALENDAR
PRODID:-//eluceo/ical//2.0/EN
VERSION:2.0
CALSCALE:GREGORIAN
BEGIN:VEVENT
UID:b1dc7879cc3e47ada9ff84f06a82cd32
DTSTAMP:20260422T082505Z
SUMMARY:UJA Annual General Meeting
DESCRIPTION:UJA Federation of Greater Toronto\nJewish Toronto Calendar\nhtt
 ps://jewishtoronto.com/calendar/uja-annual-general-meeting\n\nUJA presents
  it Annual General Meeting.\n\nRegistration required. \n\nMore informatio
 n to come. 
DTSTART;TZID=America/Toronto:20211208T000000
DTEND;TZID=America/Toronto:20211208T235959
END:VEVENT
END:VCALENDAR
