BEGIN:VCALENDAR
PRODID:-//eluceo/ical//2.0/EN
VERSION:2.0
CALSCALE:GREGORIAN
BEGIN:VEVENT
UID:5b457b719af11a87811766587412bc11
DTSTAMP:20260419T165339Z
SUMMARY:UJA Annual Campaign 2015 Executive Cabinet Meeting/ Leadership Retr
 eat
DESCRIPTION:UJA Federation of Greater Toronto\nJewish Toronto Calendar\nhtt
 ps://jewishtoronto.com/calendar/uja-annual-campaign-2015-executive-cabinet
 -meetingleadership-retreat\n\nUJA Annual Campaign 2015 Executive Cabinet M
 eeting/ Leadership Retreat
DTSTART;TZID=America/Toronto:20140710T140000
DTEND;TZID=America/Toronto:20140710T190000
END:VEVENT
END:VCALENDAR
