BEGIN:VCALENDAR
PRODID:-//eluceo/ical//2.0/EN
VERSION:2.0
CALSCALE:GREGORIAN
BEGIN:VEVENT
UID:c5db11a7601978ad3b9cd0c17df8d4cf
DTSTAMP:20260421T042309Z
SUMMARY:UJA Annual Campaign 2015 Executive Cabinet Meeting
DESCRIPTION:UJA Federation of Greater Toronto\nJewish Toronto Calendar\nhtt
 ps://jewishtoronto.com/calendar/uja-annual-campaign-2015-executive-cabinet
 -meeting-3\n\nUJA Annual Campaign 2015 Executive Cabinet Meeting
DTSTART;TZID=America/Toronto:20141117T163000
DTEND;TZID=America/Toronto:20141117T183000
END:VEVENT
END:VCALENDAR
