BEGIN:VCALENDAR
PRODID:-//eluceo/ical//2.0/EN
VERSION:2.0
CALSCALE:GREGORIAN
BEGIN:VEVENT
UID:d0cc0c1d737aef89bfb7fbe98fba72b5
DTSTAMP:20260423T155524Z
SUMMARY:UJA Annual Campaign 2015 Executive Cabinet Meeting
DESCRIPTION:UJA Federation of Greater Toronto\nJewish Toronto Calendar\nhtt
 ps://jewishtoronto.com/calendar/uja-annual-campaign-2015-executive-cabinet
 -meeting-2\n\nUJA Annual Campaign 2015 Executive Cabinet Meeting
DTSTART;TZID=America/Toronto:20141210T163000
DTEND;TZID=America/Toronto:20141210T180000
END:VEVENT
END:VCALENDAR
