BEGIN:VCALENDAR
PRODID:-//eluceo/ical//2.0/EN
VERSION:2.0
CALSCALE:GREGORIAN
BEGIN:VEVENT
UID:597ea575f903f8428dc4ad847d600093
DTSTAMP:20260425T104727Z
SUMMARY:UJA Annual Campaign 2015 Executive Cabinet Meeting
DESCRIPTION:UJA Federation of Greater Toronto\nJewish Toronto Calendar\nhtt
 ps://jewishtoronto.com/calendar/uja-annual-campaign-2015-executive-cabinet
 -meeting-1\n\nUJA Annual Campaign 2015 Executive Cabinet Meeting
DTSTART;TZID=America/Toronto:20150120T163000
DTEND;TZID=America/Toronto:20150120T183000
END:VEVENT
END:VCALENDAR
