BEGIN:VCALENDAR
PRODID:-//eluceo/ical//2.0/EN
VERSION:2.0
CALSCALE:GREGORIAN
BEGIN:VEVENT
UID:aff913f665bd1b3cc704ec9df2263429
DTSTAMP:20260420T043056Z
SUMMARY:UJA and Toronto Hebrew Memorial Parks Dedication
DESCRIPTION:UJA Federation of Greater Toronto\nJewish Toronto Calendar\nhtt
 ps://jewishtoronto.com/calendar/uja-and-toronto-hebrew-memorial-parks-dedi
 cation-1578940998\n\nUJA and THMP Dedication
DTSTART;TZID=America/Toronto:20200614T080000
DTEND;TZID=America/Toronto:20200614T130000
END:VEVENT
END:VCALENDAR
