BEGIN:VCALENDAR
PRODID:-//eluceo/ical//2.0/EN
VERSION:2.0
CALSCALE:GREGORIAN
BEGIN:VEVENT
UID:4a6427f3be5f651e6879dcbe4dbcf80b
DTSTAMP:20260425T210436Z
SUMMARY:UJA and Temple Sinai Presents - The Big Questions
DESCRIPTION:UJA Federation of Greater Toronto\nJewish Toronto Calendar\nhtt
 ps://jewishtoronto.com/calendar/uja-and-temple-sinai-presents---the-big-qu
 estions-1548183244\n\nUJA and Temple Sinai Presents - The Big Questions
DTSTART;TZID=America/Toronto:20190307T200000
DTEND;TZID=America/Toronto:20190307T220000
END:VEVENT
END:VCALENDAR
