BEGIN:VCALENDAR
PRODID:-//eluceo/ical//2.0/EN
VERSION:2.0
CALSCALE:GREGORIAN
BEGIN:VEVENT
UID:2a44c75ad557681e70543e7e49a6bf8c
DTSTAMP:20260421T142058Z
SUMMARY:UJA Aliyah Division Presents:  Jews with Big Jobs
DESCRIPTION:UJA Federation of Greater Toronto\nJewish Toronto Calendar\nhtt
 ps://jewishtoronto.com/calendar/uja-aliyah-division-presents-jews-with-big
 -jobs\n\nPanel discussion with top business\, entertainment and entreprene
 urial leaders in the Jewish Community – David Segal\, Co-Founder of Davi
 d’s Tea\; Jonathan Goodman\, Vice Chairman of Deloitte Canada\, and Rand
 i Zuckerberg\, Founder and CEO of Zuckerberg Media. \n\nThe discussion wi
 ll be moderated by Elliotte Friedman\, Sports Broadcaster for Sportsnet an
 d Hockey Night In Canada.\n\nHors D’oeuvres and Cocktails will be served
 \n\nKashruth Observed\n\nSign up here. 
DTSTART;TZID=America/Toronto:20161129T190000
DTEND;TZID=America/Toronto:20161129T220000
END:VEVENT
END:VCALENDAR
