BEGIN:VCALENDAR
PRODID:-//eluceo/ical//2.0/EN
VERSION:2.0
CALSCALE:GREGORIAN
BEGIN:VEVENT
UID:9705bfcc39fab4eb4404e6b7152d4bd9
DTSTAMP:20260426T011230Z
SUMMARY:UJA Accountants Schmooze and Schmear Breakfast Invite Only Event
DESCRIPTION:UJA Federation of Greater Toronto\nJewish Toronto Calendar\nhtt
 ps://jewishtoronto.com/calendar/uja-accountants-schmooze-and-schmear-break
 fast-invite-only-event-1564604763\n\nUJA Accountants Schmooze and Schmear 
 Breakfast
DTSTART;TZID=America/Toronto:20191017T070000
DTEND;TZID=America/Toronto:20191017T090000
END:VEVENT
END:VCALENDAR
