BEGIN:VCALENDAR
PRODID:-//eluceo/ical//2.0/EN
VERSION:2.0
CALSCALE:GREGORIAN
BEGIN:VEVENT
UID:bd9b14c59922ee0cad6578f0c63b03fb
DTSTAMP:20260424T162522Z
SUMMARY:UJA 38th Annual Holocaust Education Week - Opening Night
DESCRIPTION:UJA Federation of Greater Toronto\nJewish Toronto Calendar\nhtt
 ps://jewishtoronto.com/calendar/uja-38th-annual-holocaust-education-week-o
 pening-night\n\nAnnual Holocaust Education Week - Opening Night
DTSTART;TZID=America/Toronto:20181101T193000
DTEND;TZID=America/Toronto:20181101T210000
END:VEVENT
END:VCALENDAR
