BEGIN:VCALENDAR
PRODID:-//eluceo/ical//2.0/EN
VERSION:2.0
CALSCALE:GREGORIAN
BEGIN:VEVENT
UID:3c616fa5ba27bd95c1cf24570ad92509
DTSTAMP:20260422T165508Z
SUMMARY:UJA 2018 Campaign Launch
DESCRIPTION:UJA Federation of Greater Toronto\nJewish Toronto Calendar\nhtt
 ps://jewishtoronto.com/calendar/uja-2018-campaign-launch-1505421397\n\nTo 
 be confirmed.
DTSTART;TZID=America/Toronto:20180906T190000
DTEND;TZID=America/Toronto:20180906T210000
END:VEVENT
END:VCALENDAR
