BEGIN:VCALENDAR
PRODID:-//eluceo/ical//2.0/EN
VERSION:2.0
CALSCALE:GREGORIAN
BEGIN:VEVENT
UID:56c53b695d6a5340e613b318ea239319
DTSTAMP:20260419T200752Z
SUMMARY:UJA 1st Annual New Lawyers Welcome Cocktail
DESCRIPTION:UJA Federation of Greater Toronto\nJewish Toronto Calendar\nhtt
 ps://jewishtoronto.com/calendar/uja-1st-annual-new-lawyers-welcome-cocktai
 l-1566846867\n\nUJA 1st Annual New Lawyers Welcome Cocktail
DTSTART;TZID=America/Toronto:20191003T173000
DTEND;TZID=America/Toronto:20191003T200000
END:VEVENT
END:VCALENDAR
