BEGIN:VCALENDAR
PRODID:-//eluceo/ical//2.0/EN
VERSION:2.0
CALSCALE:GREGORIAN
BEGIN:VEVENT
UID:c78db755969a7597025e3c67c98dbf23
DTSTAMP:20260423T123757Z
SUMMARY:UJA - PAC Seminar
DESCRIPTION:UJA Federation of Greater Toronto\nJewish Toronto Calendar\nhtt
 ps://jewishtoronto.com/calendar/uja---pac-seminar-1521830635\n\nPAC Semina
 r
DTSTART;TZID=America/Toronto:20180605T073000
DTEND;TZID=America/Toronto:20180605T090000
END:VEVENT
END:VCALENDAR
