BEGIN:VCALENDAR
PRODID:-//eluceo/ical//2.0/EN
VERSION:2.0
CALSCALE:GREGORIAN
BEGIN:VEVENT
UID:cad133ce382300490bc359df9570f6c7
DTSTAMP:20260421T000735Z
SUMMARY:UJA - Lion of Judah Southern Hospitality Luncheon
DESCRIPTION:UJA Federation of Greater Toronto\nJewish Toronto Calendar\nhtt
 ps://jewishtoronto.com/calendar/uja---lion-of-judah-southern-hospitality-l
 uncheon-1505420335\n\nPrivate event
DTSTART;TZID=America/Toronto:20180207T100000
DTEND;TZID=America/Toronto:20180207T235900
END:VEVENT
END:VCALENDAR
