BEGIN:VCALENDAR
PRODID:-//eluceo/ical//2.0/EN
VERSION:2.0
CALSCALE:GREGORIAN
BEGIN:VEVENT
UID:82f557cf048ed2e88bf27a31f8d936c9
DTSTAMP:20260422T201257Z
SUMMARY:UJA: Maot Chittin Program Cuba (Global Seder)
DESCRIPTION:UJA Federation of Greater Toronto\nJewish Toronto Calendar\nhtt
 ps://jewishtoronto.com/calendar/uja\n\nUJA: Maot Chittin Program Cuba (Glo
 bal Seder) 
DTSTART;TZID=America/Toronto:20210329T000000
DTEND;TZID=America/Toronto:20210329T235959
END:VEVENT
END:VCALENDAR
