BEGIN:VCALENDAR
PRODID:-//eluceo/ical//2.0/EN
VERSION:2.0
CALSCALE:GREGORIAN
BEGIN:VEVENT
UID:0cfa47628bffe07a804d95e875afbda7
DTSTAMP:20260422T120803Z
SUMMARY:UIA - National Rosh Hashana Celebration - Virtual
DESCRIPTION:UJA Federation of Greater Toronto\nJewish Toronto Calendar\nhtt
 ps://jewishtoronto.com/calendar/uia-national-rosh-hashana-celebration--vir
 tual\n\nFederations across Canada come together to celebrate Rosh Hashana
  
DTSTART;TZID=America/Toronto:20200913T000000
DTEND;TZID=America/Toronto:20200913T000000
END:VEVENT
END:VCALENDAR
