BEGIN:VCALENDAR
PRODID:-//eluceo/ical//2.0/EN
VERSION:2.0
CALSCALE:GREGORIAN
BEGIN:VEVENT
UID:fef7db2db50364762adb973ad63e3683
DTSTAMP:20260424T080307Z
SUMMARY:Tzingles Shabbat Dinner
DESCRIPTION:UJA Federation of Greater Toronto\nJewish Toronto Calendar\nhtt
 ps://jewishtoronto.com/calendar/tzingles-shabbat-dinner-1766519231\n\nTurn
  your Friday into a spiritual\, social delight for all your senses with ou
 r Tzingles Connections group. Delicious food from Apex Catering\, lovely c
 ompany and friends. Join us!\n\nCost for dinner. Pre-registration is requi
 red by Monday\, January 12.
DTSTART;TZID=America/Toronto:20260116T191500
DTEND;TZID=America/Toronto:20260116T211500
END:VEVENT
END:VCALENDAR
