BEGIN:VCALENDAR
PRODID:-//eluceo/ical//2.0/EN
VERSION:2.0
CALSCALE:GREGORIAN
BEGIN:VEVENT
UID:ffacf281731a668849d7e5d920709cb2
DTSTAMP:20260420T160233Z
SUMMARY:Tuesdays with Larry at Beth Tikvah Synagogue
DESCRIPTION:UJA Federation of Greater Toronto\nJewish Toronto Calendar\nhtt
 ps://jewishtoronto.com/calendar/tuesdays-with-larry-at-beth-tikvah-synagog
 ue-1510079570\n\nNEW TIME! Shows begin at 1:30 pm | $5.00 cash at the door
 \n\nNONE SHALL ESCAPE (United States) 1944 85 minutes\n\nAmerican film pro
 duced in 1944 predicting that Nazi war criminals would be put on trial aft
 er World War II. Rarely shown these days\, this film has long been conside
 red a lost classic. Starring Marsha Hunt\, Alexander Knox\, Henry Travers.
 \n\nEach film includes an introduction and commentary by: Larry Anklewicz\
 , Film Consultant and Former Program Director of the Toronto Jewish Film F
 ...
DTSTART;TZID=America/Toronto:20180116T000000
DTEND;TZID=America/Toronto:20180116T235959
END:VEVENT
END:VCALENDAR
