BEGIN:VCALENDAR
PRODID:-//eluceo/ical//2.0/EN
VERSION:2.0
CALSCALE:GREGORIAN
BEGIN:VEVENT
UID:0000b31966c6832e207f47e9340f2277
DTSTAMP:20260420T054659Z
SUMMARY:Tuesdays with Larry at Beth Tikvah Synagogue
DESCRIPTION:UJA Federation of Greater Toronto\nJewish Toronto Calendar\nhtt
 ps://jewishtoronto.com/calendar/tuesdays-with-larry-at-beth-tikvah-synagog
 ue-1510079438\n\nNEW TIME! Shows begin at 1:30 pm | $5.00 cash at the door
 \n\nA LIFE IN THE YIDDISH THEATER (United States ) 2012 135 minutes\nEngli
 sh and Yiddish with English subtitles.\n\nA very special presentation that
  tells the stories of two giants of the Yiddish American Theatre. The vide
 o\npresents music and memories of these performers in both Yiddish and Eng
 lish.\n\nEach film includes an introduction and commentary by: Larry Ankle
 wicz\, Film Consultant and Former Program Director of the Toronto Jewis...
DTSTART;TZID=America/Toronto:20180109T000000
DTEND;TZID=America/Toronto:20180109T235959
END:VEVENT
END:VCALENDAR
