BEGIN:VCALENDAR
PRODID:-//eluceo/ical//2.0/EN
VERSION:2.0
CALSCALE:GREGORIAN
BEGIN:VEVENT
UID:102ebef588b9ed8235ffce01f657dd1e
DTSTAMP:20260420T171051Z
SUMMARY:Tuesdays with Larry
DESCRIPTION:UJA Federation of Greater Toronto\nJewish Toronto Calendar\nhtt
 ps://jewishtoronto.com/calendar/tuesdays-with-larry-1450808531\n\nShows be
 gins at 1:30 pm. $ 5.00 cash at the door. Each film includes an introducti
 on and commentary by Larry Anklewicz\, Film Consultant and former Program 
 Director of the Toronto Jewish Film Festival.\n\nJanuary 26 - Belle & Seba
 stian (FRANCE)\, 2014\n104 minutes\nFrench with English subtitles\nHeartwa
 rming film set during WWII in a small village in the French Alps. A 7-year
 -old boy and his gentle sheepdog lead a group of Jewish refugees to safety
  across the Swiss border while being pursued by...
DTSTART;TZID=America/Toronto:20160126T133000
DTEND;TZID=America/Toronto:20160126T153000
END:VEVENT
END:VCALENDAR
