BEGIN:VCALENDAR
PRODID:-//eluceo/ical//2.0/EN
VERSION:2.0
CALSCALE:GREGORIAN
BEGIN:VEVENT
UID:78e66f9218457313c8dd0a400e8fe595
DTSTAMP:20260421T021216Z
SUMMARY:Tuesdays with Larry
DESCRIPTION:UJA Federation of Greater Toronto\nJewish Toronto Calendar\nhtt
 ps://jewishtoronto.com/calendar/tuesdays-with-larry-1450807216\n\nShows be
 gins at 1:30 pm. $ 5.00 cash at the door. Each film includes an introducti
 on and commentary by Larry Anklewicz\, Film Consultant and former Program 
 Director of the Toronto Jewish Film Festival.\n\nJanuary 12 - A La Vie (To
  Life) (FRANCE)\, 2014\n104 minutes\nFrench with English subtitles\nDrama 
 set in the 60s about the reunion of three Jewish women survivors who haven
 't seen each other since Auschwitz. Filmmaker tells his own mother's story
 .
DTSTART;TZID=America/Toronto:20160112T133000
DTEND;TZID=America/Toronto:20160112T153000
END:VEVENT
END:VCALENDAR
