BEGIN:VCALENDAR
PRODID:-//eluceo/ical//2.0/EN
VERSION:2.0
CALSCALE:GREGORIAN
BEGIN:VEVENT
UID:c4dd39377a6ca7b3053ed5be8732513d
DTSTAMP:20260423T155651Z
SUMMARY:Tuesday Lunch With The Stars
DESCRIPTION:UJA Federation of Greater Toronto\nJewish Toronto Calendar\nhtt
 ps://jewishtoronto.com/calendar/tuesday-lunch-with-the-stars-1453484172\n\
 nEnjoy a lovely lunch with guest speaker: Rabbi Aaron Flanzraich who will 
 be discussing "A Zionism for Tomorrow"
DTSTART;TZID=America/Toronto:20160511T000000
DTEND;TZID=America/Toronto:20160511T143000
END:VEVENT
END:VCALENDAR
