BEGIN:VCALENDAR
PRODID:-//eluceo/ical//2.0/EN
VERSION:2.0
CALSCALE:GREGORIAN
BEGIN:VEVENT
UID:71fb66cdc19815a293bf28861187dd76
DTSTAMP:20260422T122844Z
SUMMARY:Tuesday Lunch With The Stars
DESCRIPTION:UJA Federation of Greater Toronto\nJewish Toronto Calendar\nhtt
 ps://jewishtoronto.com/calendar/tuesday-lunch-with-the-stars-1453483695\n\
 nJoin us for Lunch and Guest Speaker John Thompson who is an international
 ly recognized expert on terrorism.
DTSTART;TZID=America/Toronto:20160503T120000
DTEND;TZID=America/Toronto:20160503T143000
END:VEVENT
END:VCALENDAR
