BEGIN:VCALENDAR
PRODID:-//eluceo/ical//2.0/EN
VERSION:2.0
CALSCALE:GREGORIAN
BEGIN:VEVENT
UID:1a2d5781242854b11977baebe84d4792
DTSTAMP:20260421T192612Z
SUMMARY:Tu B'Shvat with Temple Sinai
DESCRIPTION:UJA Federation of Greater Toronto\nJewish Toronto Calendar\nhtt
 ps://jewishtoronto.com/calendar/tu-bshvat-with-temple-sinai-1641586085\n\n
 Tu B'Shvat with Temple Sinai\nMonday\, January 17 from 10.00 a.m. to 11.30
  a.m.\n\nTu B'Shvat has evolved from a simple celebration of spring to a c
 ommemoration of our connection to the land of Israel. Join Rabbi Michael D
 olgin on Tu B'Shvat in conversation with Rabbi Yonatan Neril from the Inte
 rfaith Centre for Sustainable Development in Israel (ICSD).\n\nBased in Je
 rusalem\, ICSD unites faith communities\, teachers and leaders to promote 
 co-existence\, peace\, and sustainability. We will hear ab...
DTSTART;TZID=America/Toronto:20220117T100000
DTEND;TZID=America/Toronto:20220117T113000
END:VEVENT
END:VCALENDAR
