BEGIN:VCALENDAR
PRODID:-//eluceo/ical//2.0/EN
VERSION:2.0
CALSCALE:GREGORIAN
BEGIN:VEVENT
UID:8c7b54be7917749e361ca5bffea3f3b0
DTSTAMP:20260423T004921Z
SUMMARY:Tu B’Shevat Seder
DESCRIPTION:UJA Federation of Greater Toronto\nJewish Toronto Calendar\nhtt
 ps://jewishtoronto.com/calendar/tu-bshevat-seder-1516113360\n\nCelebrate t
 he birthday of the trees in Israel with a participatory community Seder\, 
 and enjoy Hebrew songs\, secular readings\, fruits\, nuts and special cere
 monial foods.
DTSTART;TZID=America/Toronto:20180201T130000
DTEND;TZID=America/Toronto:20180201T150000
END:VEVENT
END:VCALENDAR
