BEGIN:VCALENDAR
PRODID:-//eluceo/ical//2.0/EN
VERSION:2.0
CALSCALE:GREGORIAN
BEGIN:VEVENT
UID:754d67fe81e856228341e60aa7b47eac
DTSTAMP:20260420T011858Z
SUMMARY:Tu B'Av: A Timeless Day for Jewish Romance
DESCRIPTION:UJA Federation of Greater Toronto\nJewish Toronto Calendar\nhtt
 ps://jewishtoronto.com/calendar/tu-bav-a-timeless-day-for-jewish-romance-1
 594669124\n\nSitting quietly within our texts is a summer celebration of l
 ove: Tu B’Av. A time for women to become active in finding life partners
 \; a day to explore the possibilities of love and be open to the explorati
 ons of relationships. We will look at the ancient texts that produced this
  day and how Judaism views love in a modern world.
DTSTART;TZID=America/Toronto:20200727T121500
DTEND;TZID=America/Toronto:20200727T133000
END:VEVENT
END:VCALENDAR
