BEGIN:VCALENDAR
PRODID:-//eluceo/ical//2.0/EN
VERSION:2.0
CALSCALE:GREGORIAN
BEGIN:VEVENT
UID:ef27046d374230ad656a1da8a40f2a5e
DTSTAMP:20260423T082653Z
SUMMARY:Tu B Sh’vat Seder
DESCRIPTION:UJA Federation of Greater Toronto\nJewish Toronto Calendar\nhtt
 ps://jewishtoronto.com/calendar/tu-b-shvat-seder\n\nCelebrate the birthday
  of the trees in Israel with a participatory community seder\, and enjoy H
 ebrew songs\, secular readings\, fruits\, nuts and special ceremonial food
 s.\nThursday February 5\nDoors open: 1:00 pm\nProgram: 1:30 - 3:00 pm\nAdm
 ission: $5\nPre-registration required by January 30!\nTo preregister\, ple
 ase call (416) 924-6211 x0\nInfo: lisar@mnjcc.org (416) 924-6211 x 155\n 
DTSTART;TZID=America/Toronto:20150205T130000
DTEND;TZID=America/Toronto:20150205T150000
END:VEVENT
END:VCALENDAR
