BEGIN:VCALENDAR
PRODID:-//eluceo/ical//2.0/EN
VERSION:2.0
CALSCALE:GREGORIAN
BEGIN:VEVENT
UID:4d798411d9da1d85cd5d5422023766df
DTSTAMP:20260420T072241Z
SUMMARY:Trivia Night U.J.A\, Rose and Sol Cohn Memorial Endowment Fund
DESCRIPTION:UJA Federation of Greater Toronto\nJewish Toronto Calendar\nhtt
 ps://jewishtoronto.com/calendar/trivia-night-uja-rose-and-sol-cohn-memoria
 l-endowment-fund-1551110309\n\nTrivia contest with  4. Course meal.  Limit
  of 48 people.
DTSTART;TZID=America/Toronto:20190602T183000
DTEND;TZID=America/Toronto:20190602T210000
END:VEVENT
END:VCALENDAR
