BEGIN:VCALENDAR
PRODID:-//eluceo/ical//2.0/EN
VERSION:2.0
CALSCALE:GREGORIAN
BEGIN:VEVENT
UID:33bc5e1602a38f441e5edb60d11f84a3
DTSTAMP:20260422T050208Z
SUMMARY:TRICK OR TREATY? - AN EVENING WITH ALANIS OBOMSAWIN
DESCRIPTION:UJA Federation of Greater Toronto\nJewish Toronto Calendar\nhtt
 ps://jewishtoronto.com/calendar/trick-or-treaty---an-evening-with-alanis-o
 bomsawin-1665881966\n\nAcclaimed Indigenous filmmaker Alanis Obomsawin's a
 ward-winning doc "Trick or Treaty followed by Q &A.  Introduction by noted
  broadcaster\, author and arts leader Jesse Wente
DTSTART;TZID=America/Toronto:20221107T190000
DTEND;TZID=America/Toronto:20221107T213000
END:VEVENT
END:VCALENDAR
