BEGIN:VCALENDAR
PRODID:-//eluceo/ical//2.0/EN
VERSION:2.0
CALSCALE:GREGORIAN
BEGIN:VEVENT
UID:9cec09bc86f57fc1538b7d20e071bf77
DTSTAMP:20260423T142622Z
SUMMARY:Tribute to Cantor Beny Maissner
DESCRIPTION:UJA Federation of Greater Toronto\nJewish Toronto Calendar\nhtt
 ps://jewishtoronto.com/calendar/tribute-to-cantor-beny-maissner-1564954607
 \n\nCongregational dinner followed by a celebratory program of Cantor Beny
  Maissner's 41 years of contributions to Holy Blossom Temple.
DTSTART;TZID=America/Toronto:20200610T180000
DTEND;TZID=America/Toronto:20200610T230000
END:VEVENT
END:VCALENDAR
