BEGIN:VCALENDAR
PRODID:-//eluceo/ical//2.0/EN
VERSION:2.0
CALSCALE:GREGORIAN
BEGIN:VEVENT
UID:6bd7a75d7322acead73cc9e0b1e6b94f
DTSTAMP:20260420T103724Z
SUMMARY:Tribute  Concert In Memory of Cantor Louis Danto
DESCRIPTION:UJA Federation of Greater Toronto\nJewish Toronto Calendar\nhtt
 ps://jewishtoronto.com/calendar/tribute--concert-in-memory-of-cantor-louis
 -danto-1594663678\n\nToronto Council Of Hazzanim Presents...A tribute live
  concert on Zoom In memory of Cantor Louis Danto on his 10th Yahrzeit Mast
 er of Ceremony and Producer: Cantor Marshall Loomer Featuring: Cantor Jere
 my Burko Cantor Tibor Kovari Cantor Eric Moses Cantor Noam Goodman Cantor 
 David Guber Cantor Benjamin Maissner Cantor David Rosen Cantor Charles Hel
 ler Cantor Ben Silverberg Speakers: Rabbi Howard Morrison and Cantor Eli K
 irshblum Register at www.bethdavid.com for link
DTSTART;TZID=America/Toronto:20200806T140000
DTEND;TZID=America/Toronto:20200806T153000
END:VEVENT
END:VCALENDAR
