BEGIN:VCALENDAR
PRODID:-//eluceo/ical//2.0/EN
VERSION:2.0
CALSCALE:GREGORIAN
BEGIN:VEVENT
UID:9afdc1169951fd0aae4dd4b14f82ead7
DTSTAMP:20260424T032322Z
SUMMARY:Town Hall Meeting
DESCRIPTION:UJA Federation of Greater Toronto\nJewish Toronto Calendar\nhtt
 ps://jewishtoronto.com/calendar/town-hall-meeting-1666821536\n\nTown Hall 
 Meeting\n\nMonday February 20  7:00 pm- 8:30 pm\n\nIn Person or Zoom\n\nF
 ree\n\n4 Panelists\; Rabbi Simcha Weinstein\, Marguerite Schabas\, Aaron S
 eres\, Jennifer Laszlo Mizrahi\n\nModerator\; Rudy Barell\n\nFull bios fo
 und on website www.torontojdn.org  EVENTS/ JDAIM\n\nTamari Hall\, Lipa G
 reen Centre\n\nRSVP Mandatory\; susie.jdisabilitynetwork@gmail.com \n\nMo
 re info or questions?  Susie 647 889 7164\n\nWheelchair accessible. Acco
 mmodations upon request. 
DTSTART;TZID=America/Toronto:20230220T190000
DTEND;TZID=America/Toronto:20230220T203000
END:VEVENT
END:VCALENDAR
