BEGIN:VCALENDAR
PRODID:-//eluceo/ical//2.0/EN
VERSION:2.0
CALSCALE:GREGORIAN
BEGIN:VEVENT
UID:a08e4a0c71cef75f194d59b294ff18a2
DTSTAMP:20260421T115536Z
SUMMARY:TOUR OF HOSTAGES SQUARE IN TEL AVIV + TALK WITH FAMILY MEMBER
DESCRIPTION:UJA Federation of Greater Toronto\nJewish Toronto Calendar\nhtt
 ps://jewishtoronto.com/calendar/tour-of-hostages-square-in-tel-aviv--talk-
 with-family-member-1730819764\n\nThrough the Hostages and Missing Families
  Forum\, we will visit Hostages Square and meet with a hostage family memb
 er.
DTSTART;TZID=America/Toronto:20241117T103000
DTEND;TZID=America/Toronto:20241117T113000
END:VEVENT
END:VCALENDAR
