BEGIN:VCALENDAR
PRODID:-//eluceo/ical//2.0/EN
VERSION:2.0
CALSCALE:GREGORIAN
BEGIN:VEVENT
UID:4b23e3b0ebe1735bcc091c4c67d392a2
DTSTAMP:20260425T180222Z
SUMMARY:Tot Shabbat & Pizza Dinner
DESCRIPTION:UJA Federation of Greater Toronto\nJewish Toronto Calendar\nhtt
 ps://jewishtoronto.com/calendar/tot-shabbat--pizza-dinner-1776185216\n\nMu
 sic\, movement\, and a sprinkle of Shabbat magic! Sing along\, hear a stor
 y\, play with instruments\, and end the night with pizza.
DTSTART;TZID=America/Toronto:20260529T173000
DTEND;TZID=America/Toronto:20260529T183000
END:VEVENT
END:VCALENDAR
