BEGIN:VCALENDAR
PRODID:-//eluceo/ical//2.0/EN
VERSION:2.0
CALSCALE:GREGORIAN
BEGIN:VEVENT
UID:6511eb19e3282599b4dfdb2d36420805
DTSTAMP:20260421T124643Z
SUMMARY:Toronto’s Lost Vaudeville Theatres
DESCRIPTION:UJA Federation of Greater Toronto\nJewish Toronto Calendar\nhtt
 ps://jewishtoronto.com/calendar/torontos-lost-vaudeville-theatres-15161142
 67\n\nOnce… there were grand movie palaces\, with plush seats and Wurlit
 zers\, where audiences enjoyed vaudeville or theatrical show before a film
 . As time passed\, these ornate theatres were converted in cinemas and tod
 ay\, they have almost all disappeared. With guest speaker Jeffrey Canton.
DTSTART;TZID=America/Toronto:20180208T130000
DTEND;TZID=America/Toronto:20180208T150000
END:VEVENT
END:VCALENDAR
