BEGIN:VCALENDAR
PRODID:-//eluceo/ical//2.0/EN
VERSION:2.0
CALSCALE:GREGORIAN
BEGIN:VEVENT
UID:846e0be496eee2aa75a4248ab358e73b
DTSTAMP:20260422T021901Z
SUMMARY:Toronto Yachad Family Resource Night
DESCRIPTION:UJA Federation of Greater Toronto\nJewish Toronto Calendar\nhtt
 ps://jewishtoronto.com/calendar/toronto-yachad-family-resource-night-15065
 22878\n\nToronto Yachad Family Resource Night is an educational evening di
 scussing special needs catering to family members of individuals with disa
 bilities.. The keynote speaker will be Aviva Goldberg who is the director 
 of "Works of Wonder"\, an organization that provides behaviour supports to
  exceptional students and their families. Programming will be provided for
  children and young adults with special needs. There will be sibling suppo
 rt groups offered as well.
DTSTART;TZID=America/Toronto:20171112T190000
DTEND;TZID=America/Toronto:20171112T210000
END:VEVENT
END:VCALENDAR
