BEGIN:VCALENDAR
PRODID:-//eluceo/ical//2.0/EN
VERSION:2.0
CALSCALE:GREGORIAN
BEGIN:VEVENT
UID:1413a568919df1af9c86a63b300dbda4
DTSTAMP:20260421T085455Z
SUMMARY:Toronto Yachad Family Day
DESCRIPTION:UJA Federation of Greater Toronto\nJewish Toronto Calendar\nhtt
 ps://jewishtoronto.com/calendar/toronto-yachad-family-day-1453678457\n\nJo
 in Toronto Yachad for an inspiring day of informative sessions for anyone 
 with an interest in Special Needs.
DTSTART;TZID=America/Toronto:20161030T100000
DTEND;TZID=America/Toronto:20161030T160000
END:VEVENT
END:VCALENDAR
