BEGIN:VCALENDAR
PRODID:-//eluceo/ical//2.0/EN
VERSION:2.0
CALSCALE:GREGORIAN
BEGIN:VEVENT
UID:8cd35d3f63dbde0dfbe696eed4e7de20
DTSTAMP:20260423T021922Z
SUMMARY:Toronto Yachad 6th Annual Marathon
DESCRIPTION:UJA Federation of Greater Toronto\nJewish Toronto Calendar\nhtt
 ps://jewishtoronto.com/calendar/toronto-yachad-6th-annual-marathon\n\nCome
  join Toronto Yachad for our 6th Annual marathon ! Walk or run the 5K\, h
 alf marathon and new this year ** join us for the 10K run !\nHave an amazi
 ng time while supporting a great organization!\nLooking forward to seeing 
 you at the Start Line!
DTSTART;TZID=America/Toronto:20190505T093000
DTEND;TZID=America/Toronto:20190505T143000
END:VEVENT
END:VCALENDAR
