BEGIN:VCALENDAR
PRODID:-//eluceo/ical//2.0/EN
VERSION:2.0
CALSCALE:GREGORIAN
BEGIN:VEVENT
UID:aca01b0f229d3c2587abc83daeed62c1
DTSTAMP:20260424T170413Z
SUMMARY:Toronto Yachad 3rd Annual Educational Conference
DESCRIPTION:UJA Federation of Greater Toronto\nJewish Toronto Calendar\nhtt
 ps://jewishtoronto.com/calendar/toronto-yachad-3rd-annual-educational-conf
 erence-1453678720\n\nToronto Yachad's 3rd Annual Educational Conference wi
 th Keynote Speaker\, Robert Brooks.
DTSTART;TZID=America/Toronto:20161031T080000
DTEND;TZID=America/Toronto:20161031T170000
END:VEVENT
END:VCALENDAR
